BEGIN:VCALENDAR
VERSION:2.0
PRODID:-//SpaceArt - ECPv6.15.20//NONSGML v1.0//EN
CALSCALE:GREGORIAN
METHOD:PUBLISH
X-WR-CALNAME:SpaceArt
X-ORIGINAL-URL:https://spaceart.be
X-WR-CALDESC:Évènements pour SpaceArt
REFRESH-INTERVAL;VALUE=DURATION:PT1H
X-Robots-Tag:noindex
X-PUBLISHED-TTL:PT1H
BEGIN:VTIMEZONE
TZID:Europe/Brussels
BEGIN:DAYLIGHT
TZOFFSETFROM:+0100
TZOFFSETTO:+0200
TZNAME:CEST
DTSTART:20240331T010000
END:DAYLIGHT
BEGIN:STANDARD
TZOFFSETFROM:+0200
TZOFFSETTO:+0100
TZNAME:CET
DTSTART:20241027T010000
END:STANDARD
BEGIN:DAYLIGHT
TZOFFSETFROM:+0100
TZOFFSETTO:+0200
TZNAME:CEST
DTSTART:20250330T010000
END:DAYLIGHT
BEGIN:STANDARD
TZOFFSETFROM:+0200
TZOFFSETTO:+0100
TZNAME:CET
DTSTART:20251026T010000
END:STANDARD
BEGIN:DAYLIGHT
TZOFFSETFROM:+0100
TZOFFSETTO:+0200
TZNAME:CEST
DTSTART:20260329T010000
END:DAYLIGHT
BEGIN:STANDARD
TZOFFSETFROM:+0200
TZOFFSETTO:+0100
TZNAME:CET
DTSTART:20261025T010000
END:STANDARD
END:VTIMEZONE
BEGIN:VEVENT
DTSTART;TZID=Europe/Brussels:20250905T180000
DTEND;TZID=Europe/Brussels:20251005T200000
DTSTAMP:20260425T154033
CREATED:20250827T074940Z
LAST-MODIFIED:20250827T074940Z
UID:3320-1757095200-1759694400@spaceart.be
SUMMARY:1er Salon Contemporain ANIMALIER
DESCRIPTION:Notre événement ne manquera pas de vous inspirer ! \nL’équipe de la Space ART GALLERY\, avec le soutien de l’artiste Xavier Embise\, a le plaisir de vous convier à son tout premier Salon Animalier Contemporain. \n🎨 Une occasion rare et précieuse de découvrir\, réunis en un même lieu\, les œuvres de 17 artistes de renommée internationale. \n\nPeintures\, sculptures\, installations… une plongée saisissante dans le monde animal à travers le regard d’artistes engagés et singuliers. \n  \n📅 Vernissage – Vendredi 5 septembre à 18h00 \nPour participer à ce moment privilégié en présence de certains des artistes\, nous vous invitons à confirmer votre présence par e-mail. \n✉️ Merci d’envoyer un message à info@spaceart.be en précisant le nombre de participants. \nLes places sont limitées – réservation indispensable. \n  \n \n 
URL:https://spaceart.be/evenement/1er-salon-contemporain-animalier/
LOCATION:REDU\, place de l'erso\, 61\, Redu\, 6890\, Belgique
ATTACH;FMTTYPE=image/jpeg:https://spaceart.be/wp-content/uploads/2025/08/save-the-day-3.jpg
END:VEVENT
BEGIN:VEVENT
DTSTART;TZID=Europe/Brussels:20251011T133000
DTEND;TZID=Europe/Brussels:20251231T170000
DTSTAMP:20260425T154033
CREATED:20251003T095206Z
LAST-MODIFIED:20251003T095206Z
UID:3575-1760189400-1767200400@spaceart.be
SUMMARY:MATIERES 1 ÂMES
DESCRIPTION:Matières & Âmes – La nouvelle grande exposition à Redu \nChers amis de l’art\,\nLa Space ART GALLERY a le plaisir de vous inviter à découvrir Matières & Âmes\, une exposition exceptionnelle qui réunit trois univers puissants et complémentaires : \nLe bronze\, matière intemporelle\, sublimée par des artistes prestigieux tels que Félix Roulin\, Véronique Kaliventzeff\, Liang Binbin\, Laurence Remacle\, Olivia Lambin\, So\, Chantal Pörras. \nL’art brut de Tom Colaux\, où l’instinct et la matière s’imposent dans toute leur authenticité.\nL’abstraction de Dusch\, maître des formes et des couleurs\, qui ouvre la voie vers l’imaginaire et la liberté. \nTrois langages artistiques\, trois énergies singulières\, réunies pour un dialogue unique au cœur de Redu. \nVERNISSAGE le 11 Octobre de 13h30 à 17H30 \n📍 Space ART GALLERY – Redu\n👉 Deux univers prolongés\, un nouveau dévoilé : à ne pas manquer ! \n#ArtContemporain #SpaceArtGallery #Redu #Bronze #ArtBrut #Abstraction \n 
URL:https://spaceart.be/evenement/matieres-1-ames/
LOCATION:REDU\, place de l'erso\, 61\, Redu\, 6890\, Belgique
ATTACH;FMTTYPE=image/jpeg:https://spaceart.be/wp-content/uploads/2025/10/MAMES-2-scaled.jpg
END:VEVENT
END:VCALENDAR