BEGIN:VCALENDAR
VERSION:2.0
PRODID:-//SpaceArt - ECPv6.15.20//NONSGML v1.0//EN
CALSCALE:GREGORIAN
METHOD:PUBLISH
X-WR-CALNAME:SpaceArt
X-ORIGINAL-URL:https://spaceart.be
X-WR-CALDESC:Évènements pour SpaceArt
REFRESH-INTERVAL;VALUE=DURATION:PT1H
X-Robots-Tag:noindex
X-PUBLISHED-TTL:PT1H
BEGIN:VTIMEZONE
TZID:Europe/Brussels
BEGIN:DAYLIGHT
TZOFFSETFROM:+0100
TZOFFSETTO:+0200
TZNAME:CEST
DTSTART:20230326T010000
END:DAYLIGHT
BEGIN:STANDARD
TZOFFSETFROM:+0200
TZOFFSETTO:+0100
TZNAME:CET
DTSTART:20231029T010000
END:STANDARD
BEGIN:DAYLIGHT
TZOFFSETFROM:+0100
TZOFFSETTO:+0200
TZNAME:CEST
DTSTART:20240331T010000
END:DAYLIGHT
BEGIN:STANDARD
TZOFFSETFROM:+0200
TZOFFSETTO:+0100
TZNAME:CET
DTSTART:20241027T010000
END:STANDARD
BEGIN:DAYLIGHT
TZOFFSETFROM:+0100
TZOFFSETTO:+0200
TZNAME:CEST
DTSTART:20250330T010000
END:DAYLIGHT
BEGIN:STANDARD
TZOFFSETFROM:+0200
TZOFFSETTO:+0100
TZNAME:CET
DTSTART:20251026T010000
END:STANDARD
END:VTIMEZONE
BEGIN:VEVENT
DTSTART;TZID=Europe/Brussels:20241026T100000
DTEND;TZID=Europe/Brussels:20241027T190000
DTSTAMP:20260424T221745
CREATED:20241021T053144Z
LAST-MODIFIED:20241021T053144Z
UID:3062-1729936800-1730055600@spaceart.be
SUMMARY:UN DUSCH EST UN DUSCH - RENCONTRE ARTISTIQUE
DESCRIPTION:A Redu\, le village de l’Art !\n \n\n\nA vos agendas. Nouvelle rencontre avec le maître de l’abstrait Peintre Dusch à la galerie.\n \n\n\n\n\n\n\nIl sera présent le weekend du 26 & 27 octobre avec des nouveautés.\n\n\nC’est place de l’Esro à Redu\n \n\n\nhttps://spaceart.be/dusch/\n \n\n\n\nOn vous souhaite un beau congé de la Toussaint.\n\n\n\n\n\n\n\n\n\n\n\n\n \n\n\n\n\n\n\n\n 
URL:https://spaceart.be/evenement/un-dusch-est-un-dusch-rencontre-artistique/
LOCATION:REDU\, place de l'erso\, 61\, Redu\, 6890\, Belgique
ATTACH;FMTTYPE=image/jpeg:https://spaceart.be/wp-content/uploads/2024/10/WE26-27-2.jpg
END:VEVENT
END:VCALENDAR