BEGIN:VCALENDAR
VERSION:2.0
PRODID:-//SpaceArt - ECPv6.15.20//NONSGML v1.0//EN
CALSCALE:GREGORIAN
METHOD:PUBLISH
X-WR-CALNAME:SpaceArt
X-ORIGINAL-URL:https://spaceart.be
X-WR-CALDESC:Évènements pour SpaceArt
REFRESH-INTERVAL;VALUE=DURATION:PT1H
X-Robots-Tag:noindex
X-PUBLISHED-TTL:PT1H
BEGIN:VTIMEZONE
TZID:Europe/Brussels
BEGIN:DAYLIGHT
TZOFFSETFROM:+0100
TZOFFSETTO:+0200
TZNAME:CEST
DTSTART:20240331T010000
END:DAYLIGHT
BEGIN:STANDARD
TZOFFSETFROM:+0200
TZOFFSETTO:+0100
TZNAME:CET
DTSTART:20241027T010000
END:STANDARD
BEGIN:DAYLIGHT
TZOFFSETFROM:+0100
TZOFFSETTO:+0200
TZNAME:CEST
DTSTART:20250330T010000
END:DAYLIGHT
BEGIN:STANDARD
TZOFFSETFROM:+0200
TZOFFSETTO:+0100
TZNAME:CET
DTSTART:20251026T010000
END:STANDARD
BEGIN:DAYLIGHT
TZOFFSETFROM:+0100
TZOFFSETTO:+0200
TZNAME:CEST
DTSTART:20260329T010000
END:DAYLIGHT
BEGIN:STANDARD
TZOFFSETFROM:+0200
TZOFFSETTO:+0100
TZNAME:CET
DTSTART:20261025T010000
END:STANDARD
END:VTIMEZONE
BEGIN:VEVENT
DTSTART;TZID=Europe/Brussels:20250219T100000
DTEND;TZID=Europe/Brussels:20250316T200000
DTSTAMP:20260425T054923
CREATED:20250211T075016Z
LAST-MODIFIED:20250211T075016Z
UID:3152-1739959200-1742155200@spaceart.be
SUMMARY:MILO DARDENNE Vs HENRI BONTEMPS : Deux grands maitres belges de la peinture.
DESCRIPTION:Dès le mercredi 19 février\, venez découvrir une exposition inédite sur deux grands maitres belges.\n \nHenri Bontemps\, aquarelliste de renom\, dont la maîtrise de la lumière et la délicatesse des touches font de chacune de ses œuvres une fenêtre ouverte sur l’émotion. Figure incontournable de la Province du Luxembourg\, il transcende l’aquarelle en un art vibrant et sensible\, où paysages et scènes de vie prennent une dimension presque poétique.\n \nMilo Dardenne\, artiste célébré pour son approche audacieuse et sa capacité à capter l’essence même de ses sujets. Pour la première fois\, 25 toiles inédites seront dévoilées au public. Une occasion unique de découvrir ou redécouvrir cet artiste à travers un regard neuf\, chargé de mystère et d’intensité.\n \nExposition visible jusqu’au dimanche 16 mars inclus\nPlongez dans un univers pictural où lumière\, mouvement et émotion s’entrelacent pour offrir une expérience artistique inoubliable.\n \n Entrée libre\n \nPlace de l’Esro\n 
URL:https://spaceart.be/evenement/milo-dardenne-vs-henri-bontemps-deux-grands-maitres-belges-de-la-peinture/
LOCATION:REDU\, place de l'erso\, 61\, Redu\, 6890\, Belgique
ATTACH;FMTTYPE=image/jpeg:https://spaceart.be/wp-content/uploads/2025/02/IMG_7145-2-scaled.jpg
END:VEVENT
END:VCALENDAR