BEGIN:VCALENDAR
VERSION:2.0
PRODID:-//SpaceArt - ECPv6.15.20//NONSGML v1.0//EN
CALSCALE:GREGORIAN
METHOD:PUBLISH
X-WR-CALNAME:SpaceArt
X-ORIGINAL-URL:https://spaceart.be
X-WR-CALDESC:Évènements pour SpaceArt
REFRESH-INTERVAL;VALUE=DURATION:PT1H
X-Robots-Tag:noindex
X-PUBLISHED-TTL:PT1H
BEGIN:VTIMEZONE
TZID:Europe/Brussels
BEGIN:DAYLIGHT
TZOFFSETFROM:+0100
TZOFFSETTO:+0200
TZNAME:CEST
DTSTART:20230326T010000
END:DAYLIGHT
BEGIN:STANDARD
TZOFFSETFROM:+0200
TZOFFSETTO:+0100
TZNAME:CET
DTSTART:20231029T010000
END:STANDARD
BEGIN:DAYLIGHT
TZOFFSETFROM:+0100
TZOFFSETTO:+0200
TZNAME:CEST
DTSTART:20240331T010000
END:DAYLIGHT
BEGIN:STANDARD
TZOFFSETFROM:+0200
TZOFFSETTO:+0100
TZNAME:CET
DTSTART:20241027T010000
END:STANDARD
BEGIN:DAYLIGHT
TZOFFSETFROM:+0100
TZOFFSETTO:+0200
TZNAME:CEST
DTSTART:20250330T010000
END:DAYLIGHT
BEGIN:STANDARD
TZOFFSETFROM:+0200
TZOFFSETTO:+0100
TZNAME:CET
DTSTART:20251026T010000
END:STANDARD
BEGIN:DAYLIGHT
TZOFFSETFROM:+0100
TZOFFSETTO:+0200
TZNAME:CEST
DTSTART:20260329T010000
END:DAYLIGHT
BEGIN:STANDARD
TZOFFSETFROM:+0200
TZOFFSETTO:+0100
TZNAME:CET
DTSTART:20261025T010000
END:STANDARD
END:VTIMEZONE
BEGIN:VEVENT
DTSTART;TZID=Europe/Brussels:20241202T080000
DTEND;TZID=Europe/Brussels:20241231T200000
DTSTAMP:20260425T025550
CREATED:20241202T103140Z
LAST-MODIFIED:20241202T103140Z
UID:3085-1733126400-1735675200@spaceart.be
SUMMARY:NOËL AVANT L'HEURE !
DESCRIPTION:Venez profiter des conditions spéciales « NOËL avant l’heure ».\n\n\n« Offrez-vous une personnalité artistique »\, faites découvrir un artiste à un proche.\n\n\nContactez nous afin de connaître les conditions spéciales sur chaque artiste !\n\n\nA votre disposition jusqu’au 31 décembre 2024.\n\n\nLa team Space Art\n \n\n\n\n \n\n\n@guydepotesta\n@peintre_dusch\nBB by Bruno Boffa\n@christiancadelli\n@claire.gobert\n@embise.sculptures\n@guy.deltour\n@damien_design\n@galerie.lionelchevalier\n@massimohyart\n@dardennegatien\n@alexandre.forceille\n@veroniquekalitventzeff\n@denispolet\n@didierderadigues\n\n 
URL:https://spaceart.be/evenement/noel-avant-lheure/
LOCATION:REDU\, place de l'erso\, 61\, Redu\, 6890\, Belgique
ATTACH;FMTTYPE=image/jpeg:https://spaceart.be/wp-content/uploads/2024/12/1675794353722-2-2.jpg
END:VEVENT
BEGIN:VEVENT
DTSTART;TZID=Europe/Brussels:20241202T080000
DTEND;TZID=Europe/Brussels:20250102T170000
DTSTAMP:20260425T025550
CREATED:20241202T102717Z
LAST-MODIFIED:20241202T102717Z
UID:3077-1733126400-1735837200@spaceart.be
SUMMARY:SPACE ART GALLERY et LE BARATHYM exposent DUSCH
DESCRIPTION:On a remis le couvert !!!\n\n\nEn collaboration avec Nicolas Alberty et son équipe\, la Space Art Gallery a installé un expo temporaire du Peintre Dusch au sein du Barathym à Nassogne.\n\n\nVous pourrez admirer les œuvres du maitre du l’abstrait jusqu’au 2 janvier 2025.\n\n\nCourez vivre une expérience immersive entre l’art de la table et l’art abstrait.\n\n\nLe Barathym\, Rue du Parvis 10\, 6950 Nassogne\, 084 31 44 84\n\n\nMerci les amis \n\n\n\n   \n\n\n \n\n\n\n\n\n 
URL:https://spaceart.be/evenement/space-art-gallery-et-le-barathym-exposent-dusch/
LOCATION:Barathym à Nassogne\, Rue du Parvis 10\, Nassogne\, 6950\, Belgique
ATTACH;FMTTYPE=image/jpeg:https://spaceart.be/wp-content/uploads/2024/12/IMG_3688.jpg
END:VEVENT
END:VCALENDAR