BEGIN:VCALENDAR
VERSION:2.0
PRODID:-//SpaceArt - ECPv6.15.20//NONSGML v1.0//EN
CALSCALE:GREGORIAN
METHOD:PUBLISH
X-WR-CALNAME:SpaceArt
X-ORIGINAL-URL:https://spaceart.be
X-WR-CALDESC:Évènements pour SpaceArt
REFRESH-INTERVAL;VALUE=DURATION:PT1H
X-Robots-Tag:noindex
X-PUBLISHED-TTL:PT1H
BEGIN:VTIMEZONE
TZID:Europe/Brussels
BEGIN:DAYLIGHT
TZOFFSETFROM:+0100
TZOFFSETTO:+0200
TZNAME:CEST
DTSTART:20230326T010000
END:DAYLIGHT
BEGIN:STANDARD
TZOFFSETFROM:+0200
TZOFFSETTO:+0100
TZNAME:CET
DTSTART:20231029T010000
END:STANDARD
BEGIN:DAYLIGHT
TZOFFSETFROM:+0100
TZOFFSETTO:+0200
TZNAME:CEST
DTSTART:20240331T010000
END:DAYLIGHT
BEGIN:STANDARD
TZOFFSETFROM:+0200
TZOFFSETTO:+0100
TZNAME:CET
DTSTART:20241027T010000
END:STANDARD
BEGIN:DAYLIGHT
TZOFFSETFROM:+0100
TZOFFSETTO:+0200
TZNAME:CEST
DTSTART:20250330T010000
END:DAYLIGHT
BEGIN:STANDARD
TZOFFSETFROM:+0200
TZOFFSETTO:+0100
TZNAME:CET
DTSTART:20251026T010000
END:STANDARD
END:VTIMEZONE
BEGIN:VEVENT
DTSTART;TZID=Europe/Brussels:20240710T100000
DTEND;TZID=Europe/Brussels:20240825T220000
DTSTAMP:20260424T191105
CREATED:20240703T125258Z
LAST-MODIFIED:20240703T173430Z
UID:2831-1720605600-1724623200@spaceart.be
SUMMARY:Summer 7X program\, 7 semaines & 7 arts.
DESCRIPTION:En direct de Redu\, le village de l’ART\, l’été 2024 sera SHOW!!\nLa Galerie SPACE ART vous propose le programme « 7X ». 7 semaines & 7 Arts \nDécouvrez un art par semaine du mercredi au dimanche à partir du 10 juillet jusqu’au 25 août. Venez participer aux rencontres artistiques de chaque dimanche. \n  \nChaque dimanche dès le 7 juillet\, nous communiquerons sur l’art et les artistes qui seront mis en avant.
URL:https://spaceart.be/evenement/summer-7x-program-7-semaines-7-arts/
LOCATION:Space Art\, Place de l'Esro\, Redu\, 6890\, Belgique
ATTACH;FMTTYPE=image/jpeg:https://spaceart.be/wp-content/uploads/2024/07/LANCEMENT-7X_Plan-de-travail-1-copie.jpg
END:VEVENT
BEGIN:VEVENT
DTSTART;TZID=Europe/Brussels:20240717T100000
DTEND;TZID=Europe/Brussels:20240721T220000
DTSTAMP:20260424T191105
CREATED:20240715T162535Z
LAST-MODIFIED:20240715T162535Z
UID:2958-1721210400-1721599200@spaceart.be
SUMMARY:PROGRAMME 7X - SEMAINE 29 LE FIGURATIF
DESCRIPTION:Redu\, le village de l’ART\, l’été 2024 sera SHOW!!\n \n\n\nOn continue le programme avec la semaine 29 sur l’art FIGURATIF.\n \n\n\nL’art figuratif en opposition à l’art abstrait est un style artistique — en particulier dans la peinture — qui se manifeste par la représentation du visible.\n\n\nVenez découvrir dès le mercredi 17 jusqu’au dimanche 21 juillet les peintures et les peintres à la galerie.\n\n\nNous présentons les œuvres de Lionel Chevalier\, Hugo Pondz\, Milo Dardenne\, Henri Bontemps et Servais\n \n\n\nMilo\, Hugo et Henri nous font l’honneur de leur présence le dimanche 21 juillet à partir de 14h\n \n\n\nA vos agendas. Du 17 au 21 juillet 2024 place de l’Esro à Redu\n \n\n\n\n    \n\n\n 
URL:https://spaceart.be/evenement/programme-7x-semaine-29-le-figuratif/
LOCATION:REDU\, place de l'erso\, 61\, Redu\, 6890\, Belgique
ATTACH;FMTTYPE=image/jpeg:https://spaceart.be/wp-content/uploads/2024/07/UNE-SEMAINE-UN-ART-FINAL.jpg
END:VEVENT
BEGIN:VEVENT
DTSTART;TZID=Europe/Brussels:20240720T100000
DTEND;TZID=Europe/Brussels:20240721T180000
DTSTAMP:20260424T191105
CREATED:20240705T100251Z
LAST-MODIFIED:20240705T100454Z
UID:2848-1721469600-1721584800@spaceart.be
SUMMARY:L'Art Belge au MUDIA à Redu
DESCRIPTION:Le 20 et 21 juillet le Mudia met à l’honneur l’art belge. Pendant ce weekend festif le Mudia accueillera une nouvelle œuvre de Emile Claus. \n20 juillet à 11h : Le Mudia dévoile l’œuvre de Emile Claus\, suivi par une visite guidée sur l’art belge. \n21 juillet à 15h : Visite guidée sur l’art belge. \nTout le weekend : Des gaufres pour tous nos visiteurs ! \n  \nPour les visites guidées : inscriptions via  info@mudia.be ou 061/51 11 96. L’entrée du Mudia est payant (sauf museumpass)\, la visite guidée est offerte. \n  \nLe Mudia participe également en mode « nocturne » à la Nuit du Livre du 3 août 2024 ! \n  \nwww.mudia.be
URL:https://spaceart.be/evenement/lart-belge-au-mudia-a-redu/
LOCATION:REDU\, place de l'erso\, 61\, Redu\, 6890\, Belgique
ATTACH;FMTTYPE=image/png:https://spaceart.be/wp-content/uploads/2024/07/Capture-decran-2024-07-05-a-11.48.47.png
ORGANIZER;CN="MUDIA":MAILTO:info@mudia.be
END:VEVENT
END:VCALENDAR