BEGIN:VCALENDAR
VERSION:2.0
PRODID:-//SpaceArt - ECPv6.15.20//NONSGML v1.0//EN
CALSCALE:GREGORIAN
METHOD:PUBLISH
X-WR-CALNAME:SpaceArt
X-ORIGINAL-URL:https://spaceart.be
X-WR-CALDESC:Évènements pour SpaceArt
REFRESH-INTERVAL;VALUE=DURATION:PT1H
X-Robots-Tag:noindex
X-PUBLISHED-TTL:PT1H
BEGIN:VTIMEZONE
TZID:Europe/Brussels
BEGIN:DAYLIGHT
TZOFFSETFROM:+0100
TZOFFSETTO:+0200
TZNAME:CEST
DTSTART:20230326T010000
END:DAYLIGHT
BEGIN:STANDARD
TZOFFSETFROM:+0200
TZOFFSETTO:+0100
TZNAME:CET
DTSTART:20231029T010000
END:STANDARD
BEGIN:DAYLIGHT
TZOFFSETFROM:+0100
TZOFFSETTO:+0200
TZNAME:CEST
DTSTART:20240331T010000
END:DAYLIGHT
BEGIN:STANDARD
TZOFFSETFROM:+0200
TZOFFSETTO:+0100
TZNAME:CET
DTSTART:20241027T010000
END:STANDARD
BEGIN:DAYLIGHT
TZOFFSETFROM:+0100
TZOFFSETTO:+0200
TZNAME:CEST
DTSTART:20250330T010000
END:DAYLIGHT
BEGIN:STANDARD
TZOFFSETFROM:+0200
TZOFFSETTO:+0100
TZNAME:CET
DTSTART:20251026T010000
END:STANDARD
END:VTIMEZONE
BEGIN:VEVENT
DTSTART;TZID=Europe/Brussels:20240710T100000
DTEND;TZID=Europe/Brussels:20240714T220000
DTSTAMP:20260424T191004
CREATED:20240707T171022Z
LAST-MODIFIED:20240707T171023Z
UID:2853-1720605600-1720994400@spaceart.be
SUMMARY:PROGRAMME 7X - SEMAINE 28 LE DESIGN
DESCRIPTION:Redu\, le village de l’ART\, l’été 2024 sera SHOW!! \nLancement du programme « 7X ». 7 semaines & 7 Arts \nOn commence le programme avec la semaine 28 sur le DESIGN. Le but premier du design est d’inventer. Le design est lié à l’esthétique contemporaine. \nVenez découvrir dès le mercredi 10 jusqu’au dimanche 14 juillet les concepts et concepteurs à la galerie. \nNous présentons les créations de Denis Polet\, les sculptures Charlie My Bear (et son créateur Patrick Vossen)\, et l’Art encapsulé de The-Boxart. \nA vos agendas. Du 10 au 14 juillet 2024 place de l’Esro à Redu \n  \n    \n 
URL:https://spaceart.be/evenement/programme-7x-semaine-28-le-design/
LOCATION:REDU\, place de l'erso\, 61\, Redu\, 6890\, Belgique
ATTACH;FMTTYPE=image/jpeg:https://spaceart.be/wp-content/uploads/2024/07/SEMAINE-28-LE-DESIGN-1.jpg
END:VEVENT
BEGIN:VEVENT
DTSTART;TZID=Europe/Brussels:20240710T100000
DTEND;TZID=Europe/Brussels:20240825T220000
DTSTAMP:20260424T191004
CREATED:20240703T125258Z
LAST-MODIFIED:20240703T173430Z
UID:2831-1720605600-1724623200@spaceart.be
SUMMARY:Summer 7X program\, 7 semaines & 7 arts.
DESCRIPTION:En direct de Redu\, le village de l’ART\, l’été 2024 sera SHOW!!\nLa Galerie SPACE ART vous propose le programme « 7X ». 7 semaines & 7 Arts \nDécouvrez un art par semaine du mercredi au dimanche à partir du 10 juillet jusqu’au 25 août. Venez participer aux rencontres artistiques de chaque dimanche. \n  \nChaque dimanche dès le 7 juillet\, nous communiquerons sur l’art et les artistes qui seront mis en avant.
URL:https://spaceart.be/evenement/summer-7x-program-7-semaines-7-arts/
LOCATION:Space Art\, Place de l'Esro\, Redu\, 6890\, Belgique
ATTACH;FMTTYPE=image/jpeg:https://spaceart.be/wp-content/uploads/2024/07/LANCEMENT-7X_Plan-de-travail-1-copie.jpg
END:VEVENT
END:VCALENDAR